BEGIN:VCALENDAR
VERSION:2.0
PRODID:-//AIA Baltimore/Baltimore Architecture Foundation - ECPv5.14.1//NONSGML v1.0//EN
CALSCALE:GREGORIAN
METHOD:PUBLISH
X-WR-CALNAME:AIA Baltimore/Baltimore Architecture Foundation
X-ORIGINAL-URL:https://www.baltimorearchitecturefoundation.org
X-WR-CALDESC:Events for AIA Baltimore/Baltimore Architecture Foundation
REFRESH-INTERVAL;VALUE=DURATION:PT1H
X-Robots-Tag:noindex
X-PUBLISHED-TTL:PT1H
BEGIN:VTIMEZONE
TZID:America/New_York
BEGIN:DAYLIGHT
TZOFFSETFROM:-0500
TZOFFSETTO:-0400
TZNAME:EDT
DTSTART:20210314T070000
END:DAYLIGHT
BEGIN:STANDARD
TZOFFSETFROM:-0400
TZOFFSETTO:-0500
TZNAME:EST
DTSTART:20211107T060000
END:STANDARD
END:VTIMEZONE
BEGIN:VEVENT
DTSTART;VALUE=DATE:20211210
DTEND;VALUE=DATE:20211211
DTSTAMP:20260423T224116
CREATED:20211004T183556Z
LAST-MODIFIED:20211129T161345Z
UID:28421-1639094400-1639180799@www.baltimorearchitecturefoundation.org
SUMMARY:2021 Gingerbread House Design Competition
DESCRIPTION:AIA Baltimore and the Baltimore Architecture Foundation are excited to announce the 2021 Gingerbread House Competition! This year\, our challenge is for participants to choose a building from our Sweet Sixteen Round of BAF Arch Madness Competition! Prizes are available for winners in each of the awards categories. \nProceeds of the event\, including sponsorship and registration fees\, will support the Baltimore Architecture Foundation’s public programs and scholarships. Prizes are available for 1st prize\, runner up\, and people’s choice. \nFundraising Drive \nWe ask our design teams to compete in fundraising for our AIA Baltimore/BAF scholarships. \nDonations can be made here. Donors should specify the team they are donating on behalf of by checking the comment box in the donation form. Donations can be made electronically or by check. \nYou can enter as a team or solo. Participate with your co-workers\, family and friends\, or on your own. \nGet inspired by the winners of last year’s Gingerbread House Competition. \nGingerbread Building Specifics \n*Design must be inspired by the list of 2021 BAF Madness Buildings \n*Design must fit a base that is 24”x 24” \n*Video: Due 12/8\, 2 minutes maximum\,(videos are not necessary for judging but are highly encouraged so we can show off your designs! \n*Delivered To The Center of Architecture and Design by 12/9 \nEach gingerbread house will be displayed in the windows of The Center for Architecture & Design! \nWhile visiting our gingerbread houses\, don’t forget to stop by Downtown Partnerships Candy Lane Nov. 20 – Dec. 31 at Center Plaza\, 110 W. Fayette Street. The Park at Center Plaza will be transformed into Candy Lane with larger than life sweet-themed installations\, thousands of lights\, activations\, performers\, and delicious local retailers! Learn More \nDEADLINE TO ENTER: DECEMBER 6\, 2021 \nREGISTER HERE\n\nSponsor This Unique Event!\nSee all 2021 Sponsorship Offerings \nSign up to be a 2021 Gingerbread House Design Competition Sponsor by emailing Margaret Stella Melikian at mstella@aiabalt.com \n\nMeet the Judges\n  \n\nMarco Legaluppi\nMarco Legaluppi\, PE is the President of Whitney Bailey Cox & Magnani LLC (WBCM)\, a full-service\, multi-discipline engineering firm headquartered in Baltimore\, MD. As a portion of his duties\, Mr. Legaluppi is responsible for coordinating structural design efforts across multiple offices and overseeing the architecture department. Marco is a life-long Baltimorean who graduated from the University of Maryland\, College Park with a Bachelor of Science in Civil/Structural Engineering and a Master’s of Science in Civil Engineering. A Registered Professional Engineer in over 15 states\, Marco has 38 years of experience with structural engineering design\, inspection\, and assessment. Marco is currently on the Executive Committee Board of the Engineering Society of Baltimore (ESB)\, sits on the University of Maryland Board of Visitors for the School of Civil Engineering\, and is an active member of numerous industry organizations. \n \nMonica Amtower\nA baking and pastry graduate of the Culinary Institute of America in Hyde Park New York\, Monica Amtower is a Baltimore native who spent her career grinding in some of the best establishments that she could get into: Cafe Boulud in Palm Beach\, the Inn at Little Washington\, the Four Seasons in Baltimore\, the James Beard nominated Forman and Wolf group\, Montage International at the Sagamore Pendry Luxury Hotel\, Executive Pastry Chef at the only Forbes 5 star hotel in downtown Washington D.C. – Trump International\, and currently is the Operations Manager for the Washington\, D.C. territory of Tatte Bakery and Café. \nChef Monica’s favorite thing about hospitality is being invited into guests special occasions and being a part of their memories.  Her favorite thing to make is cakes: wedding cakes\, specialty cakes\, gender reveal cakes.  In her very little free time\, Monica enjoys antiquing with her husband and finding “pick your own” flowers. \n \nJoe Cellucci\, AIA \nThroughout his career\, Joe has immersed himself in every phase of project development\, from the earliest stages of client engagement\, planning\, programming and design\, through final construction. Clients and colleagues appreciate his knowledge and enthusiasm\, as he consistently guides teams in the smooth delivery of projects. \nHis diverse portfolio includes award winning school and university buildings\, performing arts spaces\, art galleries\, and athletic facilities. \nJoe’s career-long commitment to the architectural profession also includes serving as a university advisor\, mentor\, and architectural studio critic. He brings his passion for architecture and design excellence to every project he undertakes. \n\nTHANK YOU TO OUR GENEROUS SPONSORS \nMaster Builder\n \nIce Sculptor  \nBaltimore National Heritage Area
URL:https://www.baltimorearchitecturefoundation.org/event/2021-gingerbread-house-design-competition/
CATEGORIES:K-12 and Family,Networking,Special Events
ATTACH;FMTTYPE=image/png:https://www.baltimorearchitecturefoundation.org/wp-content/uploads/2021/10/2ND-ANNUAL-Gingerbread-Cover-Photo.png
END:VEVENT
END:VCALENDAR